BEGIN:VCALENDAR
PRODID:Solar Promotion GmbH
CALSCALE:GREGORIAN
BEGIN:VEVENT
DTSTAMP:20260424T112223Z
DTSTART:20230418T110000
DTEND:20230418T121500
SUMMARY:How the Power Sector can Accelerate E-mobility in Europe
TZID:Europe/Berlin
LAST-MODIFIED:20240502T151914Z
DESCRIPTION:This webinar will investigate the existing ways to increase EV hosting capacity on the grid and ultimately allow for the deployment of adequate charging infrastructure.
SEQUENCE:1777029743
URL:https://www.em-power.eu/webinars/how-the-power-sector-can-accelerate-emobility-in-europe
LOCATION:EM-Power Europe\, 
UID:e0d0561a-9eb3-477e-9134-c3df42928e3c
END:VEVENT
END:VCALENDAR
