BEGIN:VCALENDAR
PRODID:Solar Promotion GmbH
CALSCALE:GREGORIAN
BEGIN:VEVENT
DTSTAMP:20260422T035107Z
DTSTART:20250318T110000
DTEND:20250318T121500
SUMMARY:Smart Meter-Rollout – Wo Deutschland steht und was in europäischen Nachbarländern besser läuft
TZID:Europe/Berlin
LAST-MODIFIED:20250328T233059Z
DESCRIPTION:Ein Webinar mit Expertinnen und Experten aus Regulatorik und Praxis indem der bne zeigt\, wo Deutschland im europäischen Vergleich beim Smart Meter Rollout steht.
SEQUENCE:1776829867
URL:https://www.em-power.eu/webinar-collection/smart_meter_rollout
LOCATION:EM-Power Europe\, 18. März 2025
UID:9d49b384-6e8f-457c-9605-74e8e969a8a4
END:VEVENT
END:VCALENDAR
