BEGIN:VCALENDAR
PRODID:Solar Promotion GmbH
CALSCALE:GREGORIAN
BEGIN:VEVENT
DTSTAMP:20260422T064835Z
DTSTART:20260421T110000
DTEND:20260421T120000
SUMMARY:Energieplanung neu gedacht: Digitaler Zwilling am Beispiel Bollingstedt
TZID:Europe/Berlin
LAST-MODIFIED:20260415T065109Z
DESCRIPTION:Webinar zur Energieplanung mit Digitalem Zwilling am Beispiel Bollingstedt.
SEQUENCE:1776840515
URL:https://www.em-power.eu/webinare/energieplanung-neu-gedacht
LOCATION:EM-Power Europe\, 
UID:cd497f0c-0158-4b4a-a40c-293522d2c9ee
END:VEVENT
END:VCALENDAR
