BEGIN:VCALENDAR
PRODID:Solar Promotion GmbH
CALSCALE:GREGORIAN
BEGIN:VEVENT
DTSTAMP:20260422T063305Z
DTSTART:20260421T110000
DTEND:20260421T120000
SUMMARY:Rethinking Energy Planning. Digital Twin Using the Example of Bollingstedt
TZID:Europe/Berlin
LAST-MODIFIED:20260415T065046Z
DESCRIPTION:Webinar on energy planning with digital twins\, using Bollingstedt as an example.
SEQUENCE:1776839585
URL:https://www.em-power.eu/webinars/rethinking-energy-planning
LOCATION:EM-Power Europe\, 
UID:ca4f3897-cbad-45b8-9ab8-41546aa9b68e
END:VEVENT
END:VCALENDAR
